BEGIN:VCALENDAR
VERSION:2.0
PRODID:-//Christ Throne Ministries - ECPv6.15.12.2//NONSGML v1.0//EN
CALSCALE:GREGORIAN
METHOD:PUBLISH
X-WR-CALNAME:Christ Throne Ministries
X-ORIGINAL-URL:https://christthrone.org
X-WR-CALDESC:Events for Christ Throne Ministries
REFRESH-INTERVAL;VALUE=DURATION:PT1H
X-Robots-Tag:noindex
X-PUBLISHED-TTL:PT1H
BEGIN:VTIMEZONE
TZID:UTC
BEGIN:STANDARD
TZOFFSETFROM:+0000
TZOFFSETTO:+0000
TZNAME:UTC
DTSTART:20190101T000000
END:STANDARD
END:VTIMEZONE
BEGIN:VEVENT
DTSTART;VALUE=DATE:20200101
DTEND;VALUE=DATE:20500102
DTSTAMP:20260418T123623
CREATED:20190317T140745Z
LAST-MODIFIED:20230616T215743Z
UID:250-1577836800-2524694399@christthrone.org
SUMMARY:Bible Study
DESCRIPTION:2 Timothy 2:15\, “”Study to shew thyself approved unto God\, a workman that needeth not to be ashamed\, rightly dividing the word of truth.”   Bible Study – Every Wednesday: 7 p.m. – 8:00 p.m. Zoom – Meeting ID: 7230111834\, Password: 743463 (https://us02web.zoom.us/j/7230111834pwd=NEw5ZmpEbkU0RjFyajU5TIVOMFdFUT09)
URL:https://christthrone.org/event/bible-study/
ATTACH;FMTTYPE=image/jpeg:https://christthrone.org/wp-content/uploads/2021/06/biblestudy.jpg
END:VEVENT
BEGIN:VEVENT
DTSTART;VALUE=DATE:20210626
DTEND;VALUE=DATE:20500627
DTSTAMP:20260418T123623
CREATED:20210626T065828Z
LAST-MODIFIED:20230208T041033Z
UID:2898-1624665600-2539900799@christthrone.org
SUMMARY:Ongoing Events
DESCRIPTION:  \n\nONGOING EVENTS \n\n2023 Beginning of the Year 40-Day Fasting & Prayer Program with Apostle\nJan. 23rd – March 3rd \nSunday Worship Service: 10 a.m. – 12 noon \nCounseling & Visitations: By Appointments \nLeader Training Sessions: Every Thursday 8 p.m. – 9 p.m. \nOperation Feed My People: 2nd & last Saturday of Every Month 12 Noon – 3 p.m. \nIntercessory Prayer: Monday 4:00 p.m. – 5 p.m. & Sunday 9:45 a.m. \nSpiritual Warfare & Deliverance Classes: 1st & 2nd Friday of every month \n \n\nLet the Fire Fall – Every third week of the month unless there are five weeks\, then it’s on the fourth week\nFriday Vigil: 10 p.m. – 2 a.m.\, Saturday 7 p.m. – 9 p.m.\, Sunday 7 p.m. – 9 p.m.\nLet the Fire Fall- February\, 2023 \nFeb. 17 – 20\nFeb. 17 – 10 p.m. – 2:00 a.m. (EST)\nFeb. 18 – 7 p.m. – 9 p.m. (EST)\nFeb. 19 – 7 p.m. – 9 p. m. (EST)\nNational Convention 2023 – July 5th – 9th\n\n \n\nPrayer for the Nations – Every second Saturday\nTaking the Month by Fasting & Prayer – The first eight days of every monthAND MORE…\nSchool of Healing & Deliverance\nSchool of Faith\nSchool of Ministry\nSchool of the Prophets
URL:https://christthrone.org/event/ongoing-events/
ATTACH;FMTTYPE=image/jpeg:https://christthrone.org/wp-content/uploads/2021/06/ctmev-1.jpg
END:VEVENT
END:VCALENDAR